BEGIN:VCALENDAR
VERSION:2.0
PRODID:-//Shaler Area School District - ECPv6.3.3.1//NONSGML v1.0//EN
CALSCALE:GREGORIAN
METHOD:PUBLISH
X-ORIGINAL-URL:https://shalerarea.org
X-WR-CALDESC:Events for Shaler Area School District
REFRESH-INTERVAL;VALUE=DURATION:PT1H
X-Robots-Tag:noindex
X-PUBLISHED-TTL:PT1H
BEGIN:VTIMEZONE
TZID:America/New_York
BEGIN:DAYLIGHT
TZOFFSETFROM:-0500
TZOFFSETTO:-0400
TZNAME:EDT
DTSTART:20240310T070000
END:DAYLIGHT
BEGIN:STANDARD
TZOFFSETFROM:-0400
TZOFFSETTO:-0500
TZNAME:EST
DTSTART:20241103T060000
END:STANDARD
BEGIN:DAYLIGHT
TZOFFSETFROM:-0500
TZOFFSETTO:-0400
TZNAME:EDT
DTSTART:20250309T070000
END:DAYLIGHT
BEGIN:STANDARD
TZOFFSETFROM:-0400
TZOFFSETTO:-0500
TZNAME:EST
DTSTART:20251102T060000
END:STANDARD
BEGIN:DAYLIGHT
TZOFFSETFROM:-0500
TZOFFSETTO:-0400
TZNAME:EDT
DTSTART:20260308T070000
END:DAYLIGHT
BEGIN:STANDARD
TZOFFSETFROM:-0400
TZOFFSETTO:-0500
TZNAME:EST
DTSTART:20261101T060000
END:STANDARD
END:VTIMEZONE
BEGIN:VEVENT
DTSTART;TZID=America/New_York:20260115T193000
DTEND;TZID=America/New_York:20260115T193000
DTSTAMP:20260423T231424
CREATED:20251106T163220Z
LAST-MODIFIED:20251106T163220Z
UID:10000460-1768505400-1768505400@shalerarea.org
SUMMARY:Beginner Band Concert
DESCRIPTION:
URL:https://shalerarea.org/event/beginner-band-concert/
LOCATION:Shaler Area Elementary School\, 700 Scott Ave.\, Glenshaw\, PA\, 15209\, United States
CATEGORIES:Elementary School
END:VEVENT
BEGIN:VEVENT
DTSTART;TZID=America/New_York:20260115T180000
DTEND;TZID=America/New_York:20260115T190000
DTSTAMP:20260423T231424
CREATED:20260105T190227Z
LAST-MODIFIED:20260105T190228Z
UID:10000458-1768500000-1768503600@shalerarea.org
SUMMARY:Beginner Strings Concert
DESCRIPTION:
URL:https://shalerarea.org/event/beginner-strings-concert-2/
LOCATION:Shaler Area Elementary School\, 700 Scott Ave.\, Glenshaw\, PA\, 15209\, United States
CATEGORIES:Elementary School
END:VEVENT
BEGIN:VEVENT
DTSTART;TZID=America/New_York:20251218T190000
DTEND;TZID=America/New_York:20251218T190000
DTSTAMP:20260423T231424
CREATED:20251106T163102Z
LAST-MODIFIED:20251106T163102Z
UID:10000457-1766084400-1766084400@shalerarea.org
SUMMARY:5th/6th Grade Strings Concert
DESCRIPTION:
URL:https://shalerarea.org/event/5th-6th-grade-strings-concert-2/
LOCATION:Shaler Area Elementary School\, 700 Scott Ave.\, Glenshaw\, PA\, 15209\, United States
CATEGORIES:Elementary School
END:VEVENT
BEGIN:VEVENT
DTSTART;TZID=America/New_York:20251216T180000
DTEND;TZID=America/New_York:20251216T180000
DTSTAMP:20260423T231424
CREATED:20251106T163028Z
LAST-MODIFIED:20251106T163028Z
UID:10000455-1765908000-1765908000@shalerarea.org
SUMMARY:5th Grade Band Concert
DESCRIPTION:
URL:https://shalerarea.org/event/5th-grade-band-concert-2/
LOCATION:Shaler Area Elementary School\, 700 Scott Ave.\, Glenshaw\, PA\, 15209\, United States
CATEGORIES:Elementary School
END:VEVENT
BEGIN:VEVENT
DTSTART;TZID=America/New_York:20251210T193000
DTEND;TZID=America/New_York:20251210T193000
DTSTAMP:20260423T231424
CREATED:20251106T162726Z
LAST-MODIFIED:20251106T162726Z
UID:10000454-1765395000-1765395000@shalerarea.org
SUMMARY:6th Grade Chorus Concert
DESCRIPTION:
URL:https://shalerarea.org/event/6th-grade-chorus-concert-2/
LOCATION:Shaler Area Elementary School\, 700 Scott Ave.\, Glenshaw\, PA\, 15209\, United States
CATEGORIES:Elementary School
END:VEVENT
BEGIN:VEVENT
DTSTART;TZID=America/New_York:20251210T180000
DTEND;TZID=America/New_York:20251210T180000
DTSTAMP:20260423T231424
CREATED:20251106T162705Z
LAST-MODIFIED:20251106T162925Z
UID:10000453-1765389600-1765389600@shalerarea.org
SUMMARY:5th Grade Chorus Concert
DESCRIPTION:
URL:https://shalerarea.org/event/5th-grade-chorus-concert-2/
LOCATION:Shaler Area Elementary School\, 700 Scott Ave.\, Glenshaw\, PA\, 15209\, United States
CATEGORIES:Elementary School
END:VEVENT
BEGIN:VEVENT
DTSTART;TZID=America/New_York:20251121T190000
DTEND;TZID=America/New_York:20251121T190000
DTSTAMP:20260423T231424
CREATED:20251106T162451Z
LAST-MODIFIED:20251106T162757Z
UID:10000451-1763751600-1763751600@shalerarea.org
SUMMARY:6th Grade Fall Play
DESCRIPTION:
URL:https://shalerarea.org/event/6th-grade-fall-play/
LOCATION:Shaler Area Elementary School\, 700 Scott Ave.\, Glenshaw\, PA\, 15209\, United States
CATEGORIES:Elementary School
END:VEVENT
BEGIN:VEVENT
DTSTART;TZID=America/New_York:20251106T193000
DTEND;TZID=America/New_York:20251106T193000
DTSTAMP:20260423T231424
CREATED:20251106T163043Z
LAST-MODIFIED:20251106T163043Z
UID:10000456-1762457400-1762457400@shalerarea.org
SUMMARY:6th Grade Band Concert
DESCRIPTION:
URL:https://shalerarea.org/event/6th-grade-band-concert-2/
LOCATION:Shaler Area Elementary School\, 700 Scott Ave.\, Glenshaw\, PA\, 15209\, United States
CATEGORIES:Elementary School
END:VEVENT
BEGIN:VEVENT
DTSTART;TZID=America/New_York:20250903T073000
DTEND;TZID=America/New_York:20250903T083000
DTSTAMP:20260423T231424
CREATED:20250826T145424Z
LAST-MODIFIED:20250826T145654Z
UID:10000392-1756884600-1756888200@shalerarea.org
SUMMARY:Coffee and Conversation
DESCRIPTION:Please join us for Coffee and Conversations. These casual mornings are an invitation to get better acquainted with the leadership of our district. All are welcome and no R.S.V.P. is required. All meetings begin at 7:30 a.m. unless otherwise notes. Each of the upcoming installments of Coffee and Conversations will take place immediately before District Parent Council.
URL:https://shalerarea.org/event/coffee-and-conversation/
LOCATION:Shaler Area Elementary School\, 700 Scott Ave.\, Glenshaw\, PA\, 15209\, United States
END:VEVENT
BEGIN:VEVENT
DTSTART;TZID=America/New_York:20241112T180000
DTEND;TZID=America/New_York:20241112T200000
DTSTAMP:20260423T231424
CREATED:20240808T142632Z
LAST-MODIFIED:20240808T142632Z
UID:10000081-1731434400-1731441600@shalerarea.org
SUMMARY:Federal Programs Parent Night
DESCRIPTION:
URL:https://shalerarea.org/event/federal-programs-parent-night/
LOCATION:Shaler Area Elementary School\, 700 Scott Ave.\, Glenshaw\, PA\, 15209\, United States
CATEGORIES:District,Elementary School
END:VEVENT
END:VCALENDAR