BEGIN:VCALENDAR
VERSION:2.0
PRODID:-//Shaler Area School District - ECPv6.3.3.1//NONSGML v1.0//EN
CALSCALE:GREGORIAN
METHOD:PUBLISH
X-WR-CALNAME:Shaler Area School District
X-ORIGINAL-URL:https://shalerarea.org
X-WR-CALDESC:Events for Shaler Area School District
REFRESH-INTERVAL;VALUE=DURATION:PT1H
X-Robots-Tag:noindex
X-PUBLISHED-TTL:PT1H
BEGIN:VTIMEZONE
TZID:America/New_York
BEGIN:DAYLIGHT
TZOFFSETFROM:-0500
TZOFFSETTO:-0400
TZNAME:EDT
DTSTART:20240310T070000
END:DAYLIGHT
BEGIN:STANDARD
TZOFFSETFROM:-0400
TZOFFSETTO:-0500
TZNAME:EST
DTSTART:20241103T060000
END:STANDARD
END:VTIMEZONE
BEGIN:VEVENT
DTSTART;VALUE=DATE:20241031
DTEND;VALUE=DATE:20241101
DTSTAMP:20260424T023009
CREATED:20240930T151622Z
LAST-MODIFIED:20241017T181826Z
UID:10000120-1730332800-1730419199@shalerarea.org
SUMMARY:Halloween Parade
DESCRIPTION:
URL:https://shalerarea.org/event/halloween-parade-and-party/
CATEGORIES:Marzolf
END:VEVENT
BEGIN:VEVENT
DTSTART;TZID=America/New_York:20241018T180000
DTEND;TZID=America/New_York:20241018T200000
DTSTAMP:20260424T023009
CREATED:20240930T161319Z
LAST-MODIFIED:20240930T161319Z
UID:10000122-1729274400-1729281600@shalerarea.org
SUMMARY:Trunk or Treat and Dance Party at Marzolf
DESCRIPTION:PTO event
URL:https://shalerarea.org/event/trunk-or-treat-and-dance-party-at-marzolf/
CATEGORIES:Marzolf
END:VEVENT
BEGIN:VEVENT
DTSTART;TZID=America/New_York:20241015T190000
DTEND;TZID=America/New_York:20241015T203000
DTSTAMP:20260424T023009
CREATED:20240930T161100Z
LAST-MODIFIED:20240930T161100Z
UID:10000121-1729018800-1729024200@shalerarea.org
SUMMARY:PTO meeting
DESCRIPTION:Library
URL:https://shalerarea.org/event/pto-meeting/
CATEGORIES:Marzolf
END:VEVENT
BEGIN:VEVENT
DTSTART;VALUE=DATE:20241014
DTEND;VALUE=DATE:20241015
DTSTAMP:20260424T023009
CREATED:20240508T144008Z
LAST-MODIFIED:20240508T144008Z
UID:10000045-1728864000-1728950399@shalerarea.org
SUMMARY:No School- Teacher In-Service
DESCRIPTION:
URL:https://shalerarea.org/event/no-school-teacher-in-service/
CATEGORIES:Burchfield,District,Elementary School,High School,Marzolf,Middle School,Reserve,Scott
END:VEVENT
BEGIN:VEVENT
DTSTART;VALUE=DATE:20240920
DTEND;VALUE=DATE:20240921
DTSTAMP:20260424T023009
CREATED:20240508T143716Z
LAST-MODIFIED:20240508T143853Z
UID:10000043-1726790400-1726876799@shalerarea.org
SUMMARY:Early Dismissal K-12
DESCRIPTION:
URL:https://shalerarea.org/event/early-dismissal-k-12/
CATEGORIES:Burchfield,District,Elementary School,High School,Marzolf,Middle School,Reserve,Scott
END:VEVENT
BEGIN:VEVENT
DTSTART;TZID=America/New_York:20240905T170000
DTEND;TZID=America/New_York:20240905T190000
DTSTAMP:20260424T023009
CREATED:20240508T141237Z
LAST-MODIFIED:20240829T105912Z
UID:10000037-1725555600-1725562800@shalerarea.org
SUMMARY:Primary Schools Curriculum Night
DESCRIPTION:
URL:https://shalerarea.org/event/primary-schools-curriculum-night/
CATEGORIES:Burchfield,District,Marzolf,Reserve,Scott
END:VEVENT
BEGIN:VEVENT
DTSTART;VALUE=DATE:20240902
DTEND;VALUE=DATE:20240903
DTSTAMP:20260424T023009
CREATED:20240508T143508Z
LAST-MODIFIED:20240508T143909Z
UID:10000040-1725235200-1725321599@shalerarea.org
SUMMARY:Labor Day- School Closed
DESCRIPTION:
URL:https://shalerarea.org/event/labor-day-school-closed-2/
CATEGORIES:Burchfield,District,Elementary School,High School,Marzolf,Middle School,Reserve,Scott
END:VEVENT
BEGIN:VEVENT
DTSTART;VALUE=DATE:20240821
DTEND;VALUE=DATE:20240822
DTSTAMP:20260424T023009
CREATED:20240508T141107Z
LAST-MODIFIED:20240508T141107Z
UID:10000036-1724198400-1724284799@shalerarea.org
SUMMARY:First Day of School for Students
DESCRIPTION:
URL:https://shalerarea.org/event/first-day-of-school-for-students/
CATEGORIES:Burchfield,District,Elementary School,High School,Marzolf,Middle School,Reserve,Scott
END:VEVENT
BEGIN:VEVENT
DTSTART;TZID=America/New_York:20240325T080000
DTEND;TZID=America/New_York:20240325T170000
DTSTAMP:20260424T023009
CREATED:20240325T174626Z
LAST-MODIFIED:20240325T174626Z
UID:10000020-1711353600-1711386000@shalerarea.org
SUMMARY:marzolf event
DESCRIPTION:
URL:https://shalerarea.org/event/marzolf-event/
CATEGORIES:Marzolf
END:VEVENT
END:VCALENDAR