BEGIN:VCALENDAR
VERSION:2.0
PRODID:-//Shaler Area School District - ECPv6.3.3.1//NONSGML v1.0//EN
CALSCALE:GREGORIAN
METHOD:PUBLISH
X-WR-CALNAME:Shaler Area School District
X-ORIGINAL-URL:https://shalerarea.org
X-WR-CALDESC:Events for Shaler Area School District
REFRESH-INTERVAL;VALUE=DURATION:PT1H
X-Robots-Tag:noindex
X-PUBLISHED-TTL:PT1H
BEGIN:VTIMEZONE
TZID:America/New_York
BEGIN:DAYLIGHT
TZOFFSETFROM:-0500
TZOFFSETTO:-0400
TZNAME:EDT
DTSTART:20240310T070000
END:DAYLIGHT
BEGIN:STANDARD
TZOFFSETFROM:-0400
TZOFFSETTO:-0500
TZNAME:EST
DTSTART:20241103T060000
END:STANDARD
BEGIN:DAYLIGHT
TZOFFSETFROM:-0500
TZOFFSETTO:-0400
TZNAME:EDT
DTSTART:20250309T070000
END:DAYLIGHT
BEGIN:STANDARD
TZOFFSETFROM:-0400
TZOFFSETTO:-0500
TZNAME:EST
DTSTART:20251102T060000
END:STANDARD
BEGIN:DAYLIGHT
TZOFFSETFROM:-0500
TZOFFSETTO:-0400
TZNAME:EDT
DTSTART:20260308T070000
END:DAYLIGHT
BEGIN:STANDARD
TZOFFSETFROM:-0400
TZOFFSETTO:-0500
TZNAME:EST
DTSTART:20261101T060000
END:STANDARD
END:VTIMEZONE
BEGIN:VEVENT
DTSTART;TZID=America/New_York:20260314T190000
DTEND;TZID=America/New_York:20260314T220000
DTSTAMP:20260423T213455
CREATED:20250730T154815Z
LAST-MODIFIED:20250730T154840Z
UID:10000354-1773514800-1773525600@shalerarea.org
SUMMARY:HS Musical-Auditorium
DESCRIPTION:
URL:https://shalerarea.org/event/hs-musical-auditorium-4/
CATEGORIES:Burchfield,District,Elementary School,High School,Marzolf,Middle School,Reserve,Scott
END:VEVENT
BEGIN:VEVENT
DTSTART;TZID=America/New_York:20260313T190000
DTEND;TZID=America/New_York:20260313T220000
DTSTAMP:20260423T213455
CREATED:20250730T155021Z
LAST-MODIFIED:20250730T155021Z
UID:10000355-1773428400-1773439200@shalerarea.org
SUMMARY:HS Musical-Auditorium
DESCRIPTION:
URL:https://shalerarea.org/event/hs-musical-auditorium-5/
CATEGORIES:Burchfield,District,Elementary School,High School,Marzolf,Middle School,Reserve,Scott
END:VEVENT
BEGIN:VEVENT
DTSTART;TZID=America/New_York:20260308T140000
DTEND;TZID=America/New_York:20260308T170000
DTSTAMP:20260423T213455
CREATED:20250730T154557Z
LAST-MODIFIED:20250730T155212Z
UID:10000352-1772978400-1772989200@shalerarea.org
SUMMARY:HS Musical-Auditorium
DESCRIPTION:
URL:https://shalerarea.org/event/hs-musical-auditorium-3/
CATEGORIES:Burchfield,District,Elementary School,High School,Marzolf,Middle School,Reserve,Scott
END:VEVENT
BEGIN:VEVENT
DTSTART;TZID=America/New_York:20260307T190000
DTEND;TZID=America/New_York:20260307T220000
DTSTAMP:20260423T213455
CREATED:20250730T154401Z
LAST-MODIFIED:20250730T155331Z
UID:10000350-1772910000-1772920800@shalerarea.org
SUMMARY:HS Musical-Auditorium
DESCRIPTION:
URL:https://shalerarea.org/event/hs-musical-auditorium/
CATEGORIES:Burchfield,District,Elementary School,High School,Marzolf,Middle School,Reserve,Scott
END:VEVENT
BEGIN:VEVENT
DTSTART;TZID=America/New_York:20260306T190000
DTEND;TZID=America/New_York:20260306T220000
DTSTAMP:20260423T213455
CREATED:20250730T154503Z
LAST-MODIFIED:20250730T155300Z
UID:10000351-1772823600-1772834400@shalerarea.org
SUMMARY:HS Musical - Auditorium
DESCRIPTION:
URL:https://shalerarea.org/event/hs-musical-auditorium-2/
CATEGORIES:Burchfield,District,Elementary School,High School,Marzolf,Middle School,Reserve,Scott
END:VEVENT
BEGIN:VEVENT
DTSTART;TZID=America/New_York:20260107T190000
DTEND;TZID=America/New_York:20260107T200000
DTSTAMP:20260423T213455
CREATED:20250930T174354Z
LAST-MODIFIED:20260106T123849Z
UID:10000438-1767812400-1767816000@shalerarea.org
SUMMARY:DPC
DESCRIPTION:
URL:https://shalerarea.org/event/dpc-3/
LOCATION:Marzolf Primary  School\, 101 Marzolf Road Extension\, Pittsburgh\, PA\, 15209\, United States
CATEGORIES:District,Marzolf
END:VEVENT
BEGIN:VEVENT
DTSTART;TZID=America/New_York:20260107T190000
DTEND;TZID=America/New_York:20260107T200000
DTSTAMP:20260423T213455
CREATED:20250826T145953Z
LAST-MODIFIED:20260106T123823Z
UID:10000395-1767812400-1767816000@shalerarea.org
SUMMARY:Coffee and Conversations
DESCRIPTION:Please join us for Coffee and Conversations. These casual mornings are an invitation to get better acquainted with the leadership of our district. All are welcome and no R.S.V.P. is required. All meetings begin at 7:30 a.m. unless otherwise notes. Each of the upcoming installments of Coffee and Conversations will take place immediately before District Parent Council.
URL:https://shalerarea.org/event/coffee-and-conversations-4/
LOCATION:Marzolf Primary  School\, 101 Marzolf Road Extension\, Pittsburgh\, PA\, 15209\, United States
CATEGORIES:District,Marzolf
END:VEVENT
BEGIN:VEVENT
DTSTART;TZID=America/New_York:20251120T080000
DTEND;TZID=America/New_York:20251120T170000
DTSTAMP:20260423T213455
CREATED:20251113T132428Z
LAST-MODIFIED:20251113T132428Z
UID:10000473-1763625600-1763658000@shalerarea.org
SUMMARY:Children’s Grief Awareness Day-BLUE OUT
DESCRIPTION:This year\, Children’s Grief Awareness Day will be recognized Thursday\, November 20th. We are asking all students and staff to wear blue on this day to support those children who have experienced the death of a significant loved one. \nSee Peachjar flyers for more details.
URL:https://shalerarea.org/event/childrens-grief-awareness-day-blue-out/
CATEGORIES:Marzolf
END:VEVENT
BEGIN:VEVENT
DTSTART;TZID=America/New_York:20251115T190000
DTEND;TZID=America/New_York:20251115T213000
DTSTAMP:20260423T213455
CREATED:20250730T143354Z
LAST-MODIFIED:20250730T143415Z
UID:10000333-1763233200-1763242200@shalerarea.org
SUMMARY:HS Fall Play-Auditorium
DESCRIPTION:
URL:https://shalerarea.org/event/hs-fall-play-auditorium-2/
CATEGORIES:Burchfield,District,Elementary School,High School,Marzolf,Middle School,Reserve,Scott
END:VEVENT
BEGIN:VEVENT
DTSTART;TZID=America/New_York:20251115T140000
DTEND;TZID=America/New_York:20251115T163000
DTSTAMP:20260423T213455
CREATED:20250730T143523Z
LAST-MODIFIED:20250730T143523Z
UID:10000334-1763215200-1763224200@shalerarea.org
SUMMARY:HS Fall Play-Auditorium
DESCRIPTION:
URL:https://shalerarea.org/event/hs-fall-play-auditorium-3/
CATEGORIES:Burchfield,District,Elementary School,High School,Marzolf,Middle School,Reserve,Scott
END:VEVENT
BEGIN:VEVENT
DTSTART;TZID=America/New_York:20251114T190000
DTEND;TZID=America/New_York:20251114T213000
DTSTAMP:20260423T213455
CREATED:20250730T143254Z
LAST-MODIFIED:20250730T143254Z
UID:10000332-1763146800-1763155800@shalerarea.org
SUMMARY:HS Fall Play-Auditorium
DESCRIPTION:
URL:https://shalerarea.org/event/hs-fall-play-auditorium/
CATEGORIES:Burchfield,District,Elementary School,High School,Marzolf,Middle School,Reserve,Scott
END:VEVENT
BEGIN:VEVENT
DTSTART;TZID=America/New_York:20250929T180000
DTEND;TZID=America/New_York:20250929T180000
DTSTAMP:20260423T213455
CREATED:20250924T172144Z
LAST-MODIFIED:20250924T172427Z
UID:10000435-1759168800-1759168800@shalerarea.org
SUMMARY:Building for Tomorrow Public Meeting HS
DESCRIPTION:
URL:https://shalerarea.org/event/building-for-tomorrow-public-meeting/
LOCATION:Shaler Area High School\, 381 Wible Run Road\, Pittsburgh\, PA\, 15209\, United States
CATEGORIES:Burchfield,District,Elementary School,High School,Marzolf,Middle School,Reserve,Scott
END:VEVENT
BEGIN:VEVENT
DTSTART;VALUE=DATE:20250927
DTEND;VALUE=DATE:20250928
DTSTAMP:20260423T213455
CREATED:20250902T155205Z
LAST-MODIFIED:20250902T155205Z
UID:10000433-1758931200-1759017599@shalerarea.org
SUMMARY:Homecoming
DESCRIPTION:
URL:https://shalerarea.org/event/homecoming-4/
CATEGORIES:Marzolf
END:VEVENT
BEGIN:VEVENT
DTSTART;TZID=America/New_York:20250926T130000
DTEND;TZID=America/New_York:20250926T130000
DTSTAMP:20260423T213455
CREATED:20250902T155038Z
LAST-MODIFIED:20250902T155116Z
UID:10000432-1758891600-1758891600@shalerarea.org
SUMMARY:Early Dismissal
DESCRIPTION:
URL:https://shalerarea.org/event/early-dismissal-2/
CATEGORIES:Marzolf
END:VEVENT
BEGIN:VEVENT
DTSTART;TZID=America/New_York:20250923T101000
DTEND;TZID=America/New_York:20250923T103000
DTSTAMP:20260423T213455
CREATED:20250902T154917Z
LAST-MODIFIED:20250902T154917Z
UID:10000431-1758622200-1758623400@shalerarea.org
SUMMARY:Marzolf Pep Rally
DESCRIPTION:Wear your Red\, White and Blue!
URL:https://shalerarea.org/event/marzolf-pep-rally/
CATEGORIES:Marzolf
END:VEVENT
BEGIN:VEVENT
DTSTART;TZID=America/New_York:20250911T090000
DTEND;TZID=America/New_York:20250911T120000
DTSTAMP:20260423T213455
CREATED:20250902T151911Z
LAST-MODIFIED:20250902T154654Z
UID:10000430-1757581200-1757592000@shalerarea.org
SUMMARY:Marzolf Picture Day
DESCRIPTION:
URL:https://shalerarea.org/event/marzolf-picture-day/
LOCATION:Marzolf Primary  School\, 101 Marzolf Road Extension\, Pittsburgh\, PA\, 15209\, United States
CATEGORIES:Marzolf
END:VEVENT
BEGIN:VEVENT
DTSTART;VALUE=DATE:20250528
DTEND;VALUE=DATE:20250531
DTSTAMP:20260423T213456
CREATED:20240508T152018Z
LAST-MODIFIED:20241021T124103Z
UID:10000065-1748390400-1748649599@shalerarea.org
SUMMARY:EARLY  DISMISSAL K-12
DESCRIPTION:
URL:https://shalerarea.org/event/early-dismissal-k-12-4/
CATEGORIES:Burchfield,District,Elementary School,High School,Marzolf,Middle School,Reserve,Scott
END:VEVENT
BEGIN:VEVENT
DTSTART;VALUE=DATE:20250526
DTEND;VALUE=DATE:20250527
DTSTAMP:20260423T213456
CREATED:20240508T151920Z
LAST-MODIFIED:20250514T183136Z
UID:10000064-1748217600-1748303999@shalerarea.org
SUMMARY:Memorial Day -No School Closed
DESCRIPTION:
URL:https://shalerarea.org/event/memorial-day-school-closed/
CATEGORIES:Burchfield,District,Elementary School,High School,Marzolf,Middle School,Reserve,Scott
END:VEVENT
BEGIN:VEVENT
DTSTART;VALUE=DATE:20250520
DTEND;VALUE=DATE:20250521
DTSTAMP:20260423T213456
CREATED:20240508T151749Z
LAST-MODIFIED:20241022T124804Z
UID:10000062-1747699200-1747785599@shalerarea.org
SUMMARY:NO SCHOOL-Primary Elections (Act 80)
DESCRIPTION:
URL:https://shalerarea.org/event/primary-elections-act-80-no-school/
CATEGORIES:Burchfield,District,Elementary School,High School,Marzolf,Middle School,Reserve,Scott
END:VEVENT
BEGIN:VEVENT
DTSTART;VALUE=DATE:20250414
DTEND;VALUE=DATE:20250419
DTSTAMP:20260423T213456
CREATED:20240508T150458Z
LAST-MODIFIED:20241022T124319Z
UID:10000061-1744588800-1745020799@shalerarea.org
SUMMARY:NO SCHOOL - Spring Break
DESCRIPTION:
URL:https://shalerarea.org/event/spring-break/
CATEGORIES:Burchfield,District,Elementary School,High School,Marzolf,Middle School,Reserve,Scott
END:VEVENT
BEGIN:VEVENT
DTSTART;VALUE=DATE:20250321
DTEND;VALUE=DATE:20250322
DTSTAMP:20260423T213456
CREATED:20240508T150413Z
LAST-MODIFIED:20240508T150413Z
UID:10000060-1742515200-1742601599@shalerarea.org
SUMMARY:End of 3rd 9 Weeks
DESCRIPTION:
URL:https://shalerarea.org/event/end-of-3rd-9-weeks/
CATEGORIES:Burchfield,District,Elementary School,High School,Marzolf,Middle School,Reserve,Scott
END:VEVENT
BEGIN:VEVENT
DTSTART;VALUE=DATE:20250307
DTEND;VALUE=DATE:20250308
DTSTAMP:20260423T213456
CREATED:20240508T150323Z
LAST-MODIFIED:20240508T150330Z
UID:10000059-1741305600-1741391999@shalerarea.org
SUMMARY:No School - Teacher In-Service
DESCRIPTION:
URL:https://shalerarea.org/event/no-school-teacher-in-service-4/
CATEGORIES:Burchfield,District,Elementary School,High School,Marzolf,Middle School,Reserve,Scott
END:VEVENT
BEGIN:VEVENT
DTSTART;TZID=America/New_York:20250305T070000
DTEND;TZID=America/New_York:20250305T150000
DTSTAMP:20260423T213456
CREATED:20250131T204209Z
LAST-MODIFIED:20250131T204209Z
UID:10000257-1741158000-1741186800@shalerarea.org
SUMMARY:Kindergarten Registration 2025-2026
DESCRIPTION:Location Marzolf Primary School
URL:https://shalerarea.org/event/kindergarten-registration-2025-2026-4/
CATEGORIES:District,Marzolf
END:VEVENT
BEGIN:VEVENT
DTSTART;VALUE=DATE:20250217
DTEND;VALUE=DATE:20250218
DTSTAMP:20260423T213456
CREATED:20240508T150125Z
LAST-MODIFIED:20240508T150125Z
UID:10000057-1739750400-1739836799@shalerarea.org
SUMMARY:No School - Teacher In-Service
DESCRIPTION:
URL:https://shalerarea.org/event/no-school-teacher-in-service-3/
CATEGORIES:Burchfield,District,Elementary School,High School,Marzolf,Middle School,Reserve,Scott
END:VEVENT
BEGIN:VEVENT
DTSTART;TZID=America/New_York:20250129T180000
DTEND;TZID=America/New_York:20250129T200000
DTSTAMP:20260423T213456
CREATED:20240508T150004Z
LAST-MODIFIED:20240508T150028Z
UID:10000056-1738173600-1738180800@shalerarea.org
SUMMARY:K-3 Parent Conferences
DESCRIPTION:
URL:https://shalerarea.org/event/k-3-parent-conferences/
CATEGORIES:Burchfield,District,Marzolf,Reserve,Scott
END:VEVENT
BEGIN:VEVENT
DTSTART;VALUE=DATE:20250120
DTEND;VALUE=DATE:20250122
DTSTAMP:20260423T213456
CREATED:20240508T145810Z
LAST-MODIFIED:20240508T145810Z
UID:10000055-1737331200-1737503999@shalerarea.org
SUMMARY:No School -Teacher In-Service
DESCRIPTION:
URL:https://shalerarea.org/event/no-school-teacher-in-service-2/
CATEGORIES:Burchfield,District,Elementary School,High School,Marzolf,Middle School,Reserve,Scott
END:VEVENT
BEGIN:VEVENT
DTSTART;VALUE=DATE:20250117
DTEND;VALUE=DATE:20250118
DTSTAMP:20260423T213456
CREATED:20240508T145708Z
LAST-MODIFIED:20240508T145708Z
UID:10000054-1737072000-1737158399@shalerarea.org
SUMMARY:End of 1st Semester
DESCRIPTION:
URL:https://shalerarea.org/event/end-of-1st-semester/
CATEGORIES:Burchfield,District,Elementary School,High School,Marzolf,Middle School,Reserve,Scott
END:VEVENT
BEGIN:VEVENT
DTSTART;TZID=America/New_York:20250108T190000
DTEND;TZID=America/New_York:20250108T203000
DTSTAMP:20260423T213456
CREATED:20250103T134625Z
LAST-MODIFIED:20250103T134705Z
UID:10000248-1736362800-1736368200@shalerarea.org
SUMMARY:Strategic Planning Community Forum
DESCRIPTION:Strategic Planning Community Forum Invitation\nWe invite you to join us for the 2nd Community Forum on Wednesday\, January 8\, 2025\, from 7:00 to 8:30 p.m. at Scott Primary School. This forum will feature: \n\nA panel discussion on workforce development skills with leaders from UPMC\, A.W. Beattie Career Center\, PNC Bank\, and Penn State University..\nTopics including workforce trends\, addressing skill gaps\, and collaboration to enhance career readiness.\nA review of data from community\, staff\, and student surveys and a discussion on focus areas for our 2025–2030 Strategic Plan rooted in the Portrait of a Graduate framework.\n\nThis is a wonderful opportunity to engage in shaping the district’s future. Learn more about this initiative at Shaler Area Portrait of a Graduate. Your presence would highlight our shared commitment to student success.
URL:https://shalerarea.org/event/strategic-planning-community-forum/
LOCATION:Scott Primary School\, 705 Scott Ave\, Glenshaw\, PA\, 15116\, United States
CATEGORIES:Burchfield,District,Elementary School,High School,Marzolf,Middle School,Reserve,Scott
END:VEVENT
BEGIN:VEVENT
DTSTART;TZID=America/New_York:20250108T180000
DTEND;TZID=America/New_York:20250108T190000
DTSTAMP:20260423T213456
CREATED:20250103T134515Z
LAST-MODIFIED:20250103T134515Z
UID:10000247-1736359200-1736362800@shalerarea.org
SUMMARY:Coffee & Converstation
DESCRIPTION:Please join us for Coffee and Conversations. These casual mornings are an invitation to get better acquainted with the leadership of our district. All are welcome and no R.S.V.P. is required.
URL:https://shalerarea.org/event/coffee-converstation/
LOCATION:Scott Primary School\, 705 Scott Ave\, Glenshaw\, PA\, 15116\, United States
CATEGORIES:Burchfield,District,Elementary School,High School,Marzolf,Middle School,Reserve,Scott
END:VEVENT
BEGIN:VEVENT
DTSTART;VALUE=DATE:20241223
DTEND;VALUE=DATE:20250102
DTSTAMP:20260423T213456
CREATED:20240508T144728Z
LAST-MODIFIED:20240508T152444Z
UID:10000052-1734912000-1735775999@shalerarea.org
SUMMARY:School Closed - Holiday Break
DESCRIPTION:
URL:https://shalerarea.org/event/school-closed-holiday-break/
CATEGORIES:Burchfield,District,Elementary School,High School,Marzolf,Middle School,Reserve,Scott
END:VEVENT
END:VCALENDAR