BEGIN:VCALENDAR
VERSION:2.0
PRODID:-//Shaler Area School District - ECPv6.3.3.1//NONSGML v1.0//EN
CALSCALE:GREGORIAN
METHOD:PUBLISH
X-ORIGINAL-URL:https://shalerarea.org
X-WR-CALDESC:Events for Shaler Area School District
REFRESH-INTERVAL;VALUE=DURATION:PT1H
X-Robots-Tag:noindex
X-PUBLISHED-TTL:PT1H
BEGIN:VTIMEZONE
TZID:America/New_York
BEGIN:DAYLIGHT
TZOFFSETFROM:-0500
TZOFFSETTO:-0400
TZNAME:EDT
DTSTART:20250309T070000
END:DAYLIGHT
BEGIN:STANDARD
TZOFFSETFROM:-0400
TZOFFSETTO:-0500
TZNAME:EST
DTSTART:20251102T060000
END:STANDARD
END:VTIMEZONE
BEGIN:VEVENT
DTSTART;TZID=America/New_York:20250905T190000
DTEND;TZID=America/New_York:20250905T213000
DTSTAMP:20260421T085108
CREATED:20250730T140246Z
LAST-MODIFIED:20250730T140246Z
UID:10000315-1757098800-1757107800@shalerarea.org
SUMMARY:Football vs. Hampton
DESCRIPTION:
URL:https://shalerarea.org/event/football-vs-hampton/
CATEGORIES:District,High School
END:VEVENT
BEGIN:VEVENT
DTSTART;TZID=America/New_York:20250912T190000
DTEND;TZID=America/New_York:20250912T213000
DTSTAMP:20260421T085108
CREATED:20250730T140441Z
LAST-MODIFIED:20250730T140441Z
UID:10000316-1757703600-1757712600@shalerarea.org
SUMMARY:Football vs. Plum
DESCRIPTION:
URL:https://shalerarea.org/event/football-vs-plum/
CATEGORIES:District,High School
END:VEVENT
BEGIN:VEVENT
DTSTART;TZID=America/New_York:20250919T190000
DTEND;TZID=America/New_York:20250919T213000
DTSTAMP:20260421T085108
CREATED:20250730T140525Z
LAST-MODIFIED:20250730T140525Z
UID:10000317-1758308400-1758317400@shalerarea.org
SUMMARY:Football vs. Woodland Hills
DESCRIPTION:
URL:https://shalerarea.org/event/football-vs-woodland-hills/
CATEGORIES:District,High School
END:VEVENT
BEGIN:VEVENT
DTSTART;TZID=America/New_York:20250927T103000
DTEND;TZID=America/New_York:20250927T130000
DTSTAMP:20260421T085108
CREATED:20250730T140815Z
LAST-MODIFIED:20250730T140815Z
UID:10000319-1758969000-1758978000@shalerarea.org
SUMMARY:HC Parade & Picnic
DESCRIPTION:
URL:https://shalerarea.org/event/hc-parade-picnic/
CATEGORIES:District,High School
END:VEVENT
BEGIN:VEVENT
DTSTART;TZID=America/New_York:20250927T133000
DTEND;TZID=America/New_York:20250927T160000
DTSTAMP:20260421T085108
CREATED:20250730T140654Z
LAST-MODIFIED:20250730T140928Z
UID:10000318-1758979800-1758988800@shalerarea.org
SUMMARY:Football vs. Penn Hills
DESCRIPTION:
URL:https://shalerarea.org/event/football-vs-penn-hills/
CATEGORIES:District,High School
END:VEVENT
BEGIN:VEVENT
DTSTART;TZID=America/New_York:20250927T193000
DTEND;TZID=America/New_York:20250927T223000
DTSTAMP:20260421T085108
CREATED:20250730T140908Z
LAST-MODIFIED:20250730T140908Z
UID:10000320-1759001400-1759012200@shalerarea.org
SUMMARY:Homecoming Dance
DESCRIPTION:
URL:https://shalerarea.org/event/homecoming-dance/
CATEGORIES:District,High School
END:VEVENT
BEGIN:VEVENT
DTSTART;TZID=America/New_York:20250929T180000
DTEND;TZID=America/New_York:20250929T180000
DTSTAMP:20260421T085108
CREATED:20250924T172144Z
LAST-MODIFIED:20250924T172427Z
UID:10000435-1759168800-1759168800@shalerarea.org
SUMMARY:Building for Tomorrow Public Meeting HS
DESCRIPTION:
URL:https://shalerarea.org/event/building-for-tomorrow-public-meeting/
LOCATION:Shaler Area High School\, 381 Wible Run Road\, Pittsburgh\, PA\, 15209\, United States
CATEGORIES:Burchfield,District,Elementary School,High School,Marzolf,Middle School,Reserve,Scott
END:VEVENT
END:VCALENDAR