BEGIN:VCALENDAR
VERSION:2.0
PRODID:-//Shaler Area School District - ECPv6.3.3.1//NONSGML v1.0//EN
CALSCALE:GREGORIAN
METHOD:PUBLISH
X-WR-CALNAME:Shaler Area School District
X-ORIGINAL-URL:https://shalerarea.org
X-WR-CALDESC:Events for Shaler Area School District
REFRESH-INTERVAL;VALUE=DURATION:PT1H
X-Robots-Tag:noindex
X-PUBLISHED-TTL:PT1H
BEGIN:VTIMEZONE
TZID:America/New_York
BEGIN:DAYLIGHT
TZOFFSETFROM:-0500
TZOFFSETTO:-0400
TZNAME:EDT
DTSTART:20250309T070000
END:DAYLIGHT
BEGIN:STANDARD
TZOFFSETFROM:-0400
TZOFFSETTO:-0500
TZNAME:EST
DTSTART:20251102T060000
END:STANDARD
END:VTIMEZONE
BEGIN:VEVENT
DTSTART;TZID=America/New_York:20250403T190000
DTEND;TZID=America/New_York:20250403T213000
DTSTAMP:20260423T132037
CREATED:20241017T182956Z
LAST-MODIFIED:20241023T151457Z
UID:10000156-1743706800-1743715800@shalerarea.org
SUMMARY:HS Spring String Fling - Auditorium
DESCRIPTION:
URL:https://shalerarea.org/event/spring-string-fling-auditorium/
CATEGORIES:District,High School
END:VEVENT
BEGIN:VEVENT
DTSTART;TZID=America/New_York:20250407T150000
DTEND;TZID=America/New_York:20250407T170000
DTSTAMP:20260423T132037
CREATED:20241017T183054Z
LAST-MODIFIED:20241023T151519Z
UID:10000157-1744038000-1744045200@shalerarea.org
SUMMARY:Talent Show Try-outs - Auditorium
DESCRIPTION:
URL:https://shalerarea.org/event/talent-show-try-outs-auditorium/
CATEGORIES:District,High School
END:VEVENT
BEGIN:VEVENT
DTSTART;TZID=America/New_York:20250408T150000
DTEND;TZID=America/New_York:20250408T170000
DTSTAMP:20260423T132037
CREATED:20241017T183131Z
LAST-MODIFIED:20241023T151536Z
UID:10000158-1744124400-1744131600@shalerarea.org
SUMMARY:Talent Show Try-outs - Auditorium
DESCRIPTION:
URL:https://shalerarea.org/event/talent-show-try-outs-auditorium-2/
CATEGORIES:District,High School
END:VEVENT
BEGIN:VEVENT
DTSTART;VALUE=DATE:20250414
DTEND;VALUE=DATE:20250419
DTSTAMP:20260423T132037
CREATED:20240508T150458Z
LAST-MODIFIED:20241022T124319Z
UID:10000061-1744588800-1745020799@shalerarea.org
SUMMARY:NO SCHOOL - Spring Break
DESCRIPTION:
URL:https://shalerarea.org/event/spring-break/
CATEGORIES:Burchfield,District,Elementary School,High School,Marzolf,Middle School,Reserve,Scott
END:VEVENT
BEGIN:VEVENT
DTSTART;TZID=America/New_York:20250425T190000
DTEND;TZID=America/New_York:20250425T213000
DTSTAMP:20260423T132037
CREATED:20241017T183355Z
LAST-MODIFIED:20241023T151554Z
UID:10000159-1745607600-1745616600@shalerarea.org
SUMMARY:HS Talent Show - Auditorium
DESCRIPTION:
URL:https://shalerarea.org/event/talent-show-auditorium/
CATEGORIES:District,High School
END:VEVENT
END:VCALENDAR