BEGIN:VCALENDAR
VERSION:2.0
PRODID:-//Shaler Area School District - ECPv6.3.3.1//NONSGML v1.0//EN
CALSCALE:GREGORIAN
METHOD:PUBLISH
X-WR-CALNAME:Shaler Area School District
X-ORIGINAL-URL:https://shalerarea.org
X-WR-CALDESC:Events for Shaler Area School District
REFRESH-INTERVAL;VALUE=DURATION:PT1H
X-Robots-Tag:noindex
X-PUBLISHED-TTL:PT1H
BEGIN:VTIMEZONE
TZID:America/New_York
BEGIN:DAYLIGHT
TZOFFSETFROM:-0500
TZOFFSETTO:-0400
TZNAME:EDT
DTSTART:20240310T070000
END:DAYLIGHT
BEGIN:STANDARD
TZOFFSETFROM:-0400
TZOFFSETTO:-0500
TZNAME:EST
DTSTART:20241103T060000
END:STANDARD
BEGIN:DAYLIGHT
TZOFFSETFROM:-0500
TZOFFSETTO:-0400
TZNAME:EDT
DTSTART:20250309T070000
END:DAYLIGHT
BEGIN:STANDARD
TZOFFSETFROM:-0400
TZOFFSETTO:-0500
TZNAME:EST
DTSTART:20251102T060000
END:STANDARD
END:VTIMEZONE
BEGIN:VEVENT
DTSTART;VALUE=DATE:20241202
DTEND;VALUE=DATE:20241203
DTSTAMP:20260423T200118
CREATED:20240508T144542Z
LAST-MODIFIED:20240508T144542Z
UID:10000050-1733097600-1733183999@shalerarea.org
SUMMARY:School - Closed Thanksgiving Break
DESCRIPTION:
URL:https://shalerarea.org/event/school-closed-thanksgiving-break-2/
CATEGORIES:Burchfield,District,Elementary School,High School,Marzolf,Middle School,Reserve,Scott
END:VEVENT
BEGIN:VEVENT
DTSTART;VALUE=DATE:20241203
DTEND;VALUE=DATE:20241204
DTSTAMP:20260423T200118
CREATED:20241023T143054Z
LAST-MODIFIED:20241023T143054Z
UID:10000110-1733184000-1733270399@shalerarea.org
SUMMARY:Angel Tree Toy Drive Continues
DESCRIPTION:
URL:https://shalerarea.org/event/angel-tree-toy-drive-continues/
CATEGORIES:District,High School
END:VEVENT
BEGIN:VEVENT
DTSTART;TZID=America/New_York:20241205T190000
DTEND;TZID=America/New_York:20241205T210000
DTSTAMP:20260423T200118
CREATED:20241023T143130Z
LAST-MODIFIED:20241023T143130Z
UID:10000111-1733425200-1733432400@shalerarea.org
SUMMARY:Orchestra Concert-Auditorium
DESCRIPTION:
URL:https://shalerarea.org/event/orchestra-concert-auditorium-2/
CATEGORIES:District,High School
END:VEVENT
BEGIN:VEVENT
DTSTART;TZID=America/New_York:20241207T080000
DTEND;TZID=America/New_York:20241207T100000
DTSTAMP:20260423T200118
CREATED:20241022T122559Z
LAST-MODIFIED:20241023T143158Z
UID:10000112-1733558400-1733565600@shalerarea.org
SUMMARY:SAT Testing
DESCRIPTION:
URL:https://shalerarea.org/event/sat-testing-2/
CATEGORIES:District,High School
END:VEVENT
BEGIN:VEVENT
DTSTART;VALUE=DATE:20241209
DTEND;VALUE=DATE:20241214
DTSTAMP:20260423T200118
CREATED:20241023T143327Z
LAST-MODIFIED:20241023T143327Z
UID:10000116-1733702400-1734134399@shalerarea.org
SUMMARY:KEYSTONE EXAMINATION TESTING
DESCRIPTION:
URL:https://shalerarea.org/event/keystone-examination-testing/
CATEGORIES:District,High School
END:VEVENT
BEGIN:VEVENT
DTSTART;TZID=America/New_York:20241210T190000
DTEND;TZID=America/New_York:20241210T210000
DTSTAMP:20260423T200118
CREATED:20241023T143246Z
LAST-MODIFIED:20241023T143246Z
UID:10000113-1733857200-1733864400@shalerarea.org
SUMMARY:Band Concert-Auditorium
DESCRIPTION:
URL:https://shalerarea.org/event/band-concert-auditorium/
CATEGORIES:District,High School
END:VEVENT
BEGIN:VEVENT
DTSTART;TZID=America/New_York:20241212T190000
DTEND;TZID=America/New_York:20241212T210000
DTSTAMP:20260423T200118
CREATED:20241023T143308Z
LAST-MODIFIED:20241023T143308Z
UID:10000114-1734030000-1734037200@shalerarea.org
SUMMARY:Choir Concert-Auditorium
DESCRIPTION:
URL:https://shalerarea.org/event/choir-concert-auditorium/
CATEGORIES:District,High School
END:VEVENT
BEGIN:VEVENT
DTSTART;VALUE=DATE:20241213
DTEND;VALUE=DATE:20241214
DTSTAMP:20260423T200118
CREATED:20241023T143358Z
LAST-MODIFIED:20241023T143358Z
UID:10000115-1734048000-1734134399@shalerarea.org
SUMMARY:
DESCRIPTION:
URL:https://shalerarea.org/event/8929/
CATEGORIES:District,High School
END:VEVENT
BEGIN:VEVENT
DTSTART;VALUE=DATE:20241220
DTEND;VALUE=DATE:20241221
DTSTAMP:20260423T200118
CREATED:20240508T144622Z
LAST-MODIFIED:20240508T144622Z
UID:10000051-1734652800-1734739199@shalerarea.org
SUMMARY:Early Dismissal K-12
DESCRIPTION:
URL:https://shalerarea.org/event/early-dismissal-k-12-3/
CATEGORIES:Burchfield,District,Elementary School,High School,Marzolf,Middle School,Reserve,Scott
END:VEVENT
BEGIN:VEVENT
DTSTART;VALUE=DATE:20241223
DTEND;VALUE=DATE:20250102
DTSTAMP:20260423T200118
CREATED:20240508T144728Z
LAST-MODIFIED:20240508T152444Z
UID:10000052-1734912000-1735775999@shalerarea.org
SUMMARY:School Closed - Holiday Break
DESCRIPTION:
URL:https://shalerarea.org/event/school-closed-holiday-break/
CATEGORIES:Burchfield,District,Elementary School,High School,Marzolf,Middle School,Reserve,Scott
END:VEVENT
END:VCALENDAR