BEGIN:VCALENDAR
VERSION:2.0
PRODID:-//Shaler Area School District - ECPv6.3.3.1//NONSGML v1.0//EN
CALSCALE:GREGORIAN
METHOD:PUBLISH
X-ORIGINAL-URL:https://shalerarea.org
X-WR-CALDESC:Events for Shaler Area School District
REFRESH-INTERVAL;VALUE=DURATION:PT1H
X-Robots-Tag:noindex
X-PUBLISHED-TTL:PT1H
BEGIN:VTIMEZONE
TZID:America/New_York
BEGIN:DAYLIGHT
TZOFFSETFROM:-0500
TZOFFSETTO:-0400
TZNAME:EDT
DTSTART:20240310T070000
END:DAYLIGHT
BEGIN:STANDARD
TZOFFSETFROM:-0400
TZOFFSETTO:-0500
TZNAME:EST
DTSTART:20241103T060000
END:STANDARD
END:VTIMEZONE
BEGIN:VEVENT
DTSTART;VALUE=DATE:20241003
DTEND;VALUE=DATE:20241004
DTSTAMP:20260423T231445
CREATED:20241023T145842Z
LAST-MODIFIED:20241023T145850Z
UID:10000091-1727913600-1727999999@shalerarea.org
SUMMARY:Senior Ad Drive Ends
DESCRIPTION:
URL:https://shalerarea.org/event/senior-ad-drive-ends/
CATEGORIES:District,High School
END:VEVENT
BEGIN:VEVENT
DTSTART;VALUE=DATE:20241004
DTEND;VALUE=DATE:20241005
DTSTAMP:20260423T231445
CREATED:20241023T145815Z
LAST-MODIFIED:20241023T145815Z
UID:10000185-1728000000-1728086399@shalerarea.org
SUMMARY:Football vs Central
DESCRIPTION:
URL:https://shalerarea.org/event/football-vs-central/
CATEGORIES:District,High School
END:VEVENT
BEGIN:VEVENT
DTSTART;VALUE=DATE:20241005
DTEND;VALUE=DATE:20241006
DTSTAMP:20260423T231445
CREATED:20241023T145911Z
LAST-MODIFIED:20241023T145911Z
UID:10000092-1728086400-1728172799@shalerarea.org
SUMMARY:SAT Testing-8:00 am
DESCRIPTION:
URL:https://shalerarea.org/event/sat-testing-800-am/
CATEGORIES:District,High School
END:VEVENT
BEGIN:VEVENT
DTSTART;TZID=America/New_York:20241007T180000
DTEND;TZID=America/New_York:20241007T200000
DTSTAMP:20260423T231445
CREATED:20241023T145927Z
LAST-MODIFIED:20241023T145927Z
UID:10000093-1728324000-1728331200@shalerarea.org
SUMMARY:North Pittsburgh College Fair
DESCRIPTION:
URL:https://shalerarea.org/event/north-pittsburgh-college-fair/
CATEGORIES:District,High School
END:VEVENT
BEGIN:VEVENT
DTSTART;VALUE=DATE:20241009
DTEND;VALUE=DATE:20241010
DTSTAMP:20260423T231445
CREATED:20241023T142432Z
LAST-MODIFIED:20241023T142432Z
UID:10000094-1728432000-1728518399@shalerarea.org
SUMMARY:Class Ring Orders-Lunch Periods
DESCRIPTION:
URL:https://shalerarea.org/event/class-ring-orders-lunch-periods/
CATEGORIES:District,High School
END:VEVENT
BEGIN:VEVENT
DTSTART;TZID=America/New_York:20241011T080000
DTEND;TZID=America/New_York:20241011T170000
DTSTAMP:20260423T231445
CREATED:20241023T150005Z
LAST-MODIFIED:20241023T150005Z
UID:10000186-1728633600-1728666000@shalerarea.org
SUMMARY:Football vs North Hills-Hall of Fame
DESCRIPTION:
URL:https://shalerarea.org/event/football-vs-north-hills-hall-of-fame/
CATEGORIES:District,High School
END:VEVENT
BEGIN:VEVENT
DTSTART;VALUE=DATE:20241014
DTEND;VALUE=DATE:20241015
DTSTAMP:20260423T231445
CREATED:20240508T144008Z
LAST-MODIFIED:20240508T144008Z
UID:10000045-1728864000-1728950399@shalerarea.org
SUMMARY:No School- Teacher In-Service
DESCRIPTION:
URL:https://shalerarea.org/event/no-school-teacher-in-service/
CATEGORIES:Burchfield,District,Elementary School,High School,Marzolf,Middle School,Reserve,Scott
END:VEVENT
BEGIN:VEVENT
DTSTART;VALUE=DATE:20241018
DTEND;VALUE=DATE:20241019
DTSTAMP:20260423T231445
CREATED:20241017T150507Z
LAST-MODIFIED:20241023T142522Z
UID:10000124-1729209600-1729295999@shalerarea.org
SUMMARY:Football vs Fox Chapel - Senior Night
DESCRIPTION:
URL:https://shalerarea.org/event/football-vs-fox-chapel-senior-night/
CATEGORIES:District,High School
END:VEVENT
BEGIN:VEVENT
DTSTART;VALUE=DATE:20241024
DTEND;VALUE=DATE:20241025
DTSTAMP:20260423T231445
CREATED:20241023T142539Z
LAST-MODIFIED:20241023T142539Z
UID:10000095-1729728000-1729814399@shalerarea.org
SUMMARY:PSAT Testing
DESCRIPTION:
URL:https://shalerarea.org/event/psat-testing/
CATEGORIES:District,High School
END:VEVENT
BEGIN:VEVENT
DTSTART;VALUE=DATE:20241025
DTEND;VALUE=DATE:20241026
DTSTAMP:20260423T231445
CREATED:20241017T150244Z
LAST-MODIFIED:20241023T142611Z
UID:10000123-1729814400-1729900799@shalerarea.org
SUMMARY:Football @ Pine Richland
DESCRIPTION:
URL:https://shalerarea.org/event/football-pine-richland/
CATEGORIES:District,High School
END:VEVENT
BEGIN:VEVENT
DTSTART;TZID=America/New_York:20241028T093000
DTEND;TZID=America/New_York:20241028T103000
DTSTAMP:20260423T231445
CREATED:20241022T121707Z
LAST-MODIFIED:20241023T142634Z
UID:10000096-1730107800-1730111400@shalerarea.org
SUMMARY:HS PTO Meeting-Room 214
DESCRIPTION:
URL:https://shalerarea.org/event/hs-pto-meeting-room-214-3/
CATEGORIES:District,High School
END:VEVENT
END:VCALENDAR