BEGIN:VCALENDAR
VERSION:2.0
PRODID:-//Shaler Area School District - ECPv6.3.3.1//NONSGML v1.0//EN
CALSCALE:GREGORIAN
METHOD:PUBLISH
X-WR-CALNAME:Shaler Area School District
X-ORIGINAL-URL:https://shalerarea.org
X-WR-CALDESC:Events for Shaler Area School District
REFRESH-INTERVAL;VALUE=DURATION:PT1H
X-Robots-Tag:noindex
X-PUBLISHED-TTL:PT1H
BEGIN:VTIMEZONE
TZID:America/New_York
BEGIN:DAYLIGHT
TZOFFSETFROM:-0500
TZOFFSETTO:-0400
TZNAME:EDT
DTSTART:20240310T070000
END:DAYLIGHT
BEGIN:STANDARD
TZOFFSETFROM:-0400
TZOFFSETTO:-0500
TZNAME:EST
DTSTART:20241103T060000
END:STANDARD
END:VTIMEZONE
BEGIN:VEVENT
DTSTART;VALUE=DATE:20240902
DTEND;VALUE=DATE:20240903
DTSTAMP:20260424T004446
CREATED:20240508T143508Z
LAST-MODIFIED:20240508T143909Z
UID:10000040-1725235200-1725321599@shalerarea.org
SUMMARY:Labor Day- School Closed
DESCRIPTION:
URL:https://shalerarea.org/event/labor-day-school-closed-2/
CATEGORIES:Burchfield,District,Elementary School,High School,Marzolf,Middle School,Reserve,Scott
END:VEVENT
BEGIN:VEVENT
DTSTART;TZID=America/New_York:20240905T180000
DTEND;TZID=America/New_York:20240905T203000
DTSTAMP:20260424T004446
CREATED:20240508T143554Z
LAST-MODIFIED:20240806T181136Z
UID:10000041-1725559200-1725568200@shalerarea.org
SUMMARY:SAHS Fall Open House
DESCRIPTION:
URL:https://shalerarea.org/event/sahs-fall-open-house-2/
CATEGORIES:District,High School
END:VEVENT
BEGIN:VEVENT
DTSTART;VALUE=DATE:20240920
DTEND;VALUE=DATE:20240921
DTSTAMP:20260424T004446
CREATED:20240508T143716Z
LAST-MODIFIED:20240508T143853Z
UID:10000043-1726790400-1726876799@shalerarea.org
SUMMARY:Early Dismissal K-12
DESCRIPTION:
URL:https://shalerarea.org/event/early-dismissal-k-12/
CATEGORIES:Burchfield,District,Elementary School,High School,Marzolf,Middle School,Reserve,Scott
END:VEVENT
BEGIN:VEVENT
DTSTART;VALUE=DATE:20240921
DTEND;VALUE=DATE:20240922
DTSTAMP:20260424T004446
CREATED:20240508T143804Z
LAST-MODIFIED:20240814T114640Z
UID:10000044-1726876800-1726963199@shalerarea.org
SUMMARY:Homecoming
DESCRIPTION:Parade 10:30 am\nPicnic 12:00 pm\nGame 1:30 pm\nDance 7:30 pm
URL:https://shalerarea.org/event/homecoming/
CATEGORIES:District,High School
END:VEVENT
END:VCALENDAR