BEGIN:VCALENDAR
VERSION:2.0
PRODID:-//Shaler Area School District - ECPv6.3.3.1//NONSGML v1.0//EN
CALSCALE:GREGORIAN
METHOD:PUBLISH
X-ORIGINAL-URL:https://shalerarea.org
X-WR-CALDESC:Events for Shaler Area School District
REFRESH-INTERVAL;VALUE=DURATION:PT1H
X-Robots-Tag:noindex
X-PUBLISHED-TTL:PT1H
BEGIN:VTIMEZONE
TZID:America/New_York
BEGIN:DAYLIGHT
TZOFFSETFROM:-0500
TZOFFSETTO:-0400
TZNAME:EDT
DTSTART:20260308T070000
END:DAYLIGHT
BEGIN:STANDARD
TZOFFSETFROM:-0400
TZOFFSETTO:-0500
TZNAME:EST
DTSTART:20261101T060000
END:STANDARD
END:VTIMEZONE
BEGIN:VEVENT
DTSTART;VALUE=DATE:20260527
DTEND;VALUE=DATE:20260530
DTSTAMP:20260423T094946
CREATED:20250609T175053Z
LAST-MODIFIED:20250609T175053Z
UID:10000290-1779840000-1780099199@shalerarea.org
SUMMARY:Early Dismissal K-12
DESCRIPTION:
URL:https://shalerarea.org/event/early-dismissal-k-12-8/
CATEGORIES:Elementary School
END:VEVENT
BEGIN:VEVENT
DTSTART;VALUE=DATE:20260529
DTEND;VALUE=DATE:20260530
DTSTAMP:20260423T094946
CREATED:20250609T175115Z
LAST-MODIFIED:20250609T175115Z
UID:10000291-1780012800-1780099199@shalerarea.org
SUMMARY:Last Day of School for Students
DESCRIPTION:
URL:https://shalerarea.org/event/last-day-of-school-for-students/
CATEGORIES:Elementary School
END:VEVENT
BEGIN:VEVENT
DTSTART;TZID=America/New_York:20260529T070000
DTEND;TZID=America/New_York:20260529T143000
DTSTAMP:20260423T094946
CREATED:20250730T161947Z
LAST-MODIFIED:20250730T161947Z
UID:10000375-1780038000-1780065000@shalerarea.org
SUMMARY:Underclass Final Exams - Pds 3-4-7
DESCRIPTION:
URL:https://shalerarea.org/event/underclass-final-exams-pds-3-4-7/
CATEGORIES:District,High School
END:VEVENT
BEGIN:VEVENT
DTSTART;TZID=America/New_York:20260529T080000
DTEND;TZID=America/New_York:20260529T150000
DTSTAMP:20260423T094946
CREATED:20250826T170730Z
LAST-MODIFIED:20250826T170730Z
UID:10000427-1780041600-1780066800@shalerarea.org
SUMMARY:Last Day for Students
DESCRIPTION:
URL:https://shalerarea.org/event/last-day-for-students/
CATEGORIES:Middle School
END:VEVENT
BEGIN:VEVENT
DTSTART;TZID=America/New_York:20260529T093000
DTEND;TZID=America/New_York:20260529T113000
DTSTAMP:20260423T094946
CREATED:20250730T162133Z
LAST-MODIFIED:20250730T162133Z
UID:10000378-1780047000-1780054200@shalerarea.org
SUMMARY:Graduation Practice
DESCRIPTION:
URL:https://shalerarea.org/event/graduation-practice-6/
CATEGORIES:District,High School
END:VEVENT
BEGIN:VEVENT
DTSTART;TZID=America/New_York:20260529T190000
DTEND;TZID=America/New_York:20260529T213000
DTSTAMP:20260423T094946
CREATED:20250730T162206Z
LAST-MODIFIED:20250730T162647Z
UID:10000379-1780081200-1780090200@shalerarea.org
SUMMARY:Graduation
DESCRIPTION:
URL:https://shalerarea.org/event/graduation-4/
CATEGORIES:District,High School
END:VEVENT
END:VCALENDAR