BEGIN:VCALENDAR
VERSION:2.0
PRODID:-//Shaler Area School District - ECPv6.3.3.1//NONSGML v1.0//EN
CALSCALE:GREGORIAN
METHOD:PUBLISH
X-ORIGINAL-URL:https://shalerarea.org
X-WR-CALDESC:Events for Shaler Area School District
REFRESH-INTERVAL;VALUE=DURATION:PT1H
X-Robots-Tag:noindex
X-PUBLISHED-TTL:PT1H
BEGIN:VTIMEZONE
TZID:America/New_York
BEGIN:DAYLIGHT
TZOFFSETFROM:-0500
TZOFFSETTO:-0400
TZNAME:EDT
DTSTART:20260308T070000
END:DAYLIGHT
BEGIN:STANDARD
TZOFFSETFROM:-0400
TZOFFSETTO:-0500
TZNAME:EST
DTSTART:20261101T060000
END:STANDARD
END:VTIMEZONE
BEGIN:VEVENT
DTSTART;VALUE=DATE:20260520
DTEND;VALUE=DATE:20260522
DTSTAMP:20260423T094950
CREATED:20250730T172051Z
LAST-MODIFIED:20250730T172051Z
UID:10000381-1779235200-1779407999@shalerarea.org
SUMMARY:Senior Finals
DESCRIPTION:
URL:https://shalerarea.org/event/senior-finals-2/
END:VEVENT
BEGIN:VEVENT
DTSTART;TZID=America/New_York:20260521T173000
DTEND;TZID=America/New_York:20260521T200000
DTSTAMP:20260423T094950
CREATED:20250724T192134Z
LAST-MODIFIED:20250724T192134Z
UID:10000303-1779384600-1779393600@shalerarea.org
SUMMARY:5th Annual 143 Day of Kindness Event
DESCRIPTION:
URL:https://shalerarea.org/event/5th-annual-143-day-of-kindness-event/
LOCATION:Shaler Area Elementary School\, 700 Scott Ave.\, Glenshaw\, PA\, 15209\, United States
CATEGORIES:District
END:VEVENT
END:VCALENDAR