BEGIN:VCALENDAR
VERSION:2.0
PRODID:-//Shaler Area School District - ECPv6.3.3.1//NONSGML v1.0//EN
CALSCALE:GREGORIAN
METHOD:PUBLISH
X-ORIGINAL-URL:https://shalerarea.org
X-WR-CALDESC:Events for Shaler Area School District
REFRESH-INTERVAL;VALUE=DURATION:PT1H
X-Robots-Tag:noindex
X-PUBLISHED-TTL:PT1H
BEGIN:VTIMEZONE
TZID:America/New_York
BEGIN:DAYLIGHT
TZOFFSETFROM:-0500
TZOFFSETTO:-0400
TZNAME:EDT
DTSTART:20260308T070000
END:DAYLIGHT
BEGIN:STANDARD
TZOFFSETFROM:-0400
TZOFFSETTO:-0500
TZNAME:EST
DTSTART:20261101T060000
END:STANDARD
END:VTIMEZONE
BEGIN:VEVENT
DTSTART;VALUE=DATE:20260511
DTEND;VALUE=DATE:20260516
DTSTAMP:20260423T094951
CREATED:20250730T160748Z
LAST-MODIFIED:20250731T152239Z
UID:10000364-1778457600-1778889599@shalerarea.org
SUMMARY:AP EXAMS\, Keystone Exams & Senior Finals - HS
DESCRIPTION:
URL:https://shalerarea.org/event/ap-exams-senior-finals-hs/
CATEGORIES:District,High School
END:VEVENT
BEGIN:VEVENT
DTSTART;TZID=America/New_York:20260515T190000
DTEND;TZID=America/New_York:20260515T190000
DTSTAMP:20260423T094951
CREATED:20251106T163858Z
LAST-MODIFIED:20251106T163858Z
UID:10000469-1778871600-1778871600@shalerarea.org
SUMMARY:6th Grade Spring Musical
DESCRIPTION:
URL:https://shalerarea.org/event/6th-grade-spring-musical/
LOCATION:Shaler Area Elementary School\, 700 Scott Ave.\, Glenshaw\, PA\, 15209\, United States
CATEGORIES:Elementary School
END:VEVENT
END:VCALENDAR