BEGIN:VCALENDAR
VERSION:2.0
PRODID:-//Shaler Area School District - ECPv6.3.3.1//NONSGML v1.0//EN
CALSCALE:GREGORIAN
METHOD:PUBLISH
X-WR-CALNAME:Shaler Area School District
X-ORIGINAL-URL:https://shalerarea.org
X-WR-CALDESC:Events for Shaler Area School District
REFRESH-INTERVAL;VALUE=DURATION:PT1H
X-Robots-Tag:noindex
X-PUBLISHED-TTL:PT1H
BEGIN:VTIMEZONE
TZID:America/New_York
BEGIN:DAYLIGHT
TZOFFSETFROM:-0500
TZOFFSETTO:-0400
TZNAME:EDT
DTSTART:20260308T070000
END:DAYLIGHT
BEGIN:STANDARD
TZOFFSETFROM:-0400
TZOFFSETTO:-0500
TZNAME:EST
DTSTART:20261101T060000
END:STANDARD
END:VTIMEZONE
BEGIN:VEVENT
DTSTART;VALUE=DATE:20260504
DTEND;VALUE=DATE:20260509
DTSTAMP:20260423T110942
CREATED:20250730T160717Z
LAST-MODIFIED:20250730T160717Z
UID:10000363-1777852800-1778284799@shalerarea.org
SUMMARY:AP EXAMS - HS
DESCRIPTION:
URL:https://shalerarea.org/event/ap-exams-hs/
CATEGORIES:District,High School
END:VEVENT
BEGIN:VEVENT
DTSTART;VALUE=DATE:20260508
DTEND;VALUE=DATE:20260509
DTSTAMP:20260423T110942
CREATED:20251106T163814Z
LAST-MODIFIED:20251106T163814Z
UID:10000468-1778198400-1778284799@shalerarea.org
SUMMARY:Decathlon Rain Date
DESCRIPTION:
URL:https://shalerarea.org/event/decathlon-rain-date/
LOCATION:Shaler Area Elementary School\, 700 Scott Ave.\, Glenshaw\, PA\, 15209\, United States
CATEGORIES:Elementary School
END:VEVENT
BEGIN:VEVENT
DTSTART;TZID=America/New_York:20260508T183000
DTEND;TZID=America/New_York:20260508T210000
DTSTAMP:20260423T110942
CREATED:20250730T161200Z
LAST-MODIFIED:20250731T152145Z
UID:10000367-1778265000-1778274000@shalerarea.org
SUMMARY:Choir Concert - HS Auditorium
DESCRIPTION:
URL:https://shalerarea.org/event/choir-concert-hs-auditorium-2/
END:VEVENT
END:VCALENDAR