BEGIN:VCALENDAR
VERSION:2.0
PRODID:-//Shaler Area School District - ECPv6.3.3.1//NONSGML v1.0//EN
CALSCALE:GREGORIAN
METHOD:PUBLISH
X-ORIGINAL-URL:https://shalerarea.org
X-WR-CALDESC:Events for Shaler Area School District
REFRESH-INTERVAL;VALUE=DURATION:PT1H
X-Robots-Tag:noindex
X-PUBLISHED-TTL:PT1H
BEGIN:VTIMEZONE
TZID:America/New_York
BEGIN:DAYLIGHT
TZOFFSETFROM:-0500
TZOFFSETTO:-0400
TZNAME:EDT
DTSTART:20260308T070000
END:DAYLIGHT
BEGIN:STANDARD
TZOFFSETFROM:-0400
TZOFFSETTO:-0500
TZNAME:EST
DTSTART:20261101T060000
END:STANDARD
END:VTIMEZONE
BEGIN:VEVENT
DTSTART;TZID=America/New_York:20260311T073000
DTEND;TZID=America/New_York:20260311T083000
DTSTAMP:20260423T125007
CREATED:20250826T151129Z
LAST-MODIFIED:20260225T132017Z
UID:10000397-1773214200-1773217800@shalerarea.org
SUMMARY:Coffee and Conversations
DESCRIPTION:Please join us for Coffee and Conversations. These casual mornings are an invitation to get better acquainted with the leadership of our district. All are welcome and no R.S.V.P. is required. All meetings begin at 7:30 a.m. unless otherwise notes. Each of the upcoming installments of Coffee and Conversations will take place immediately before District Parent Council.
URL:https://shalerarea.org/event/coffee-and-conversations-6/
LOCATION:Shaler Area Middle School\, 1810 Mt. Royal Blvd\, Glenshaw\, Pennsylvania\, 15116\, United States
END:VEVENT
BEGIN:VEVENT
DTSTART;TZID=America/New_York:20260311T090000
DTEND;TZID=America/New_York:20260311T090000
DTSTAMP:20260423T125007
CREATED:20250930T174631Z
LAST-MODIFIED:20260225T132042Z
UID:10000440-1773219600-1773219600@shalerarea.org
SUMMARY:DPC
DESCRIPTION:
URL:https://shalerarea.org/event/dpc-5/
LOCATION:Shaler Area Middle School\, 1810 Mt. Royal Blvd\, Glenshaw\, Pennsylvania\, 15116\, United States
CATEGORIES:District,Middle School
END:VEVENT
BEGIN:VEVENT
DTSTART;TZID=America/New_York:20260311T180000
DTEND;TZID=America/New_York:20260311T190000
DTSTAMP:20260423T125007
CREATED:20260225T132258Z
LAST-MODIFIED:20260310T211555Z
UID:10000517-1773252000-1773255600@shalerarea.org
SUMMARY:Finance Committee Meeting
DESCRIPTION:Join: https://teams.microsoft.com/meet/26495663274696?p=jcQ4HEo3ig2zUnam9a \nMeeting ID: 264 956 632 746 96 \nPasscode: 8TR7Mz6d \nNeed help? | System reference \nDial in by phone \n+1 929-229-5440\,\,308412132# United States\, New York City \nFind a local number \nPhone conference ID: 308 412 132#
URL:https://shalerarea.org/event/finance-committee-meeting-4/
LOCATION:A.W. Beattie Career Center\, 9600 Babcock Blvd.\, Allison Park\, PA\, 15116\, United States
CATEGORIES:Board Meeting,District
END:VEVENT
BEGIN:VEVENT
DTSTART;TZID=America/New_York:20260311T193000
DTEND;TZID=America/New_York:20260311T210000
DTSTAMP:20260423T125007
CREATED:20251208T182422Z
LAST-MODIFIED:20260211T184819Z
UID:10000480-1773257400-1773262800@shalerarea.org
SUMMARY:Committee of the Whole Meeting
DESCRIPTION:
URL:https://shalerarea.org/event/cow-combined-meetings/
LOCATION:A.W. Beattie Career Center\, 9600 Babcock Blvd.\, Allison Park\, PA\, 15116\, United States
CATEGORIES:Board Meeting,District
END:VEVENT
END:VCALENDAR